BEGIN:VCALENDAR
VERSION:2.0
PRODID:spatie/icalendar-generator
NAME:HMS Athletics Booster Club Calendar
X-WR-CALNAME:HMS Athletics Booster Club Calendar
REFRESH-INTERVAL;VALUE=DURATION:PT30M
X-PUBLISHED-TTL:PT30M
BEGIN:VTIMEZONE
TZID:America/New_York
BEGIN:STANDARD
DTSTART:20251102T010000
TZOFFSETFROM:-0400
TZOFFSETTO:-0500
END:STANDARD
BEGIN:DAYLIGHT
DTSTART:20260308T010000
TZOFFSETFROM:-0500
TZOFFSETTO:-0400
END:DAYLIGHT
BEGIN:STANDARD
DTSTART:20261101T010000
TZOFFSETFROM:-0400
TZOFFSETTO:-0500
END:STANDARD
BEGIN:DAYLIGHT
DTSTART:20270314T010000
TZOFFSETFROM:-0500
TZOFFSETTO:-0400
END:DAYLIGHT
END:VTIMEZONE
BEGIN:VTIMEZONE
TZID:UTC
BEGIN:STANDARD
DTSTART:20250724T062858
TZOFFSETFROM:+0000
TZOFFSETTO:+0000
END:STANDARD
END:VTIMEZONE
BEGIN:VEVENT
UID:event-728507@hmsathletics.boosterhub.com
DTSTAMP:20260420T062858Z
SUMMARY:Winter Sport Registration Opens
DESCRIPTION:<a href=\"https://www.google.com/url?q=https://wakecountyathlet
 iczone.com/heritage-middle/tryout-information/&amp\\\;sa=D&amp\\\;source=
 calendar&amp\\\;ust=1728323518762201&amp\\\;usg=AOvVaw0MZEK4IupDXJJhhx4YP
 9WG\" target=\"_blank\">https://wakecountyathleticzone.com/heritage-middl
 e/tryout-information/</a>
LOCATION:
X-MICROSOFT-CDO-ALLDAYEVENT:TRUE
DTSTART;TZID=America/New_York;VALUE=DATE:20260513
DTEND;TZID=America/New_York;VALUE=DATE:20260514
END:VEVENT
BEGIN:VEVENT
UID:event-728508@hmsathletics.boosterhub.com
DTSTAMP:20260420T062858Z
SUMMARY:Winter Sport Registration Opens
DESCRIPTION:<a href=\"https://www.google.com/url?q=https://wakecountyathlet
 iczone.com/heritage-middle/tryout-information/&amp\\\;sa=D&amp\\\;source=
 calendar&amp\\\;ust=1728323518762201&amp\\\;usg=AOvVaw0MZEK4IupDXJJhhx4YP
 9WG\" target=\"_blank\">https://wakecountyathleticzone.com/heritage-middl
 e/tryout-information/</a>
LOCATION:
X-MICROSOFT-CDO-ALLDAYEVENT:TRUE
DTSTART;TZID=America/New_York;VALUE=DATE:20260610
DTEND;TZID=America/New_York;VALUE=DATE:20260611
END:VEVENT
BEGIN:VEVENT
UID:event-728509@hmsathletics.boosterhub.com
DTSTAMP:20260420T062858Z
SUMMARY:Winter Sport Registration Opens
DESCRIPTION:<a href=\"https://www.google.com/url?q=https://wakecountyathlet
 iczone.com/heritage-middle/tryout-information/&amp\\\;sa=D&amp\\\;source=
 calendar&amp\\\;ust=1728323518762201&amp\\\;usg=AOvVaw0MZEK4IupDXJJhhx4YP
 9WG\" target=\"_blank\">https://wakecountyathleticzone.com/heritage-middl
 e/tryout-information/</a>
LOCATION:
X-MICROSOFT-CDO-ALLDAYEVENT:TRUE
DTSTART;TZID=America/New_York;VALUE=DATE:20260708
DTEND;TZID=America/New_York;VALUE=DATE:20260709
END:VEVENT
BEGIN:VEVENT
UID:event-728510@hmsathletics.boosterhub.com
DTSTAMP:20260420T062858Z
SUMMARY:Winter Sport Registration Opens
DESCRIPTION:<a href=\"https://www.google.com/url?q=https://wakecountyathlet
 iczone.com/heritage-middle/tryout-information/&amp\\\;sa=D&amp\\\;source=
 calendar&amp\\\;ust=1728323518762201&amp\\\;usg=AOvVaw0MZEK4IupDXJJhhx4YP
 9WG\" target=\"_blank\">https://wakecountyathleticzone.com/heritage-middl
 e/tryout-information/</a>
LOCATION:
X-MICROSOFT-CDO-ALLDAYEVENT:TRUE
DTSTART;TZID=America/New_York;VALUE=DATE:20260812
DTEND;TZID=America/New_York;VALUE=DATE:20260813
END:VEVENT
BEGIN:VEVENT
UID:event-728511@hmsathletics.boosterhub.com
DTSTAMP:20260420T062858Z
SUMMARY:Winter Sport Registration Opens
DESCRIPTION:<a href=\"https://www.google.com/url?q=https://wakecountyathlet
 iczone.com/heritage-middle/tryout-information/&amp\\\;sa=D&amp\\\;source=
 calendar&amp\\\;ust=1728323518762201&amp\\\;usg=AOvVaw0MZEK4IupDXJJhhx4YP
 9WG\" target=\"_blank\">https://wakecountyathleticzone.com/heritage-middl
 e/tryout-information/</a>
LOCATION:
X-MICROSOFT-CDO-ALLDAYEVENT:TRUE
DTSTART;TZID=America/New_York;VALUE=DATE:20260909
DTEND;TZID=America/New_York;VALUE=DATE:20260910
END:VEVENT
BEGIN:VEVENT
UID:event-728512@hmsathletics.boosterhub.com
DTSTAMP:20260420T062858Z
SUMMARY:Winter Sport Registration Opens
DESCRIPTION:<a href=\"https://www.google.com/url?q=https://wakecountyathlet
 iczone.com/heritage-middle/tryout-information/&amp\\\;sa=D&amp\\\;source=
 calendar&amp\\\;ust=1728323518762201&amp\\\;usg=AOvVaw0MZEK4IupDXJJhhx4YP
 9WG\" target=\"_blank\">https://wakecountyathleticzone.com/heritage-middl
 e/tryout-information/</a>
LOCATION:
X-MICROSOFT-CDO-ALLDAYEVENT:TRUE
DTSTART;TZID=America/New_York;VALUE=DATE:20261014
DTEND;TZID=America/New_York;VALUE=DATE:20261015
END:VEVENT
BEGIN:VEVENT
UID:event-728513@hmsathletics.boosterhub.com
DTSTAMP:20260420T062858Z
SUMMARY:Winter Sport Registration Opens
DESCRIPTION:<a href=\"https://www.google.com/url?q=https://wakecountyathlet
 iczone.com/heritage-middle/tryout-information/&amp\\\;sa=D&amp\\\;source=
 calendar&amp\\\;ust=1728323518762201&amp\\\;usg=AOvVaw0MZEK4IupDXJJhhx4YP
 9WG\" target=\"_blank\">https://wakecountyathleticzone.com/heritage-middl
 e/tryout-information/</a>
LOCATION:
X-MICROSOFT-CDO-ALLDAYEVENT:TRUE
DTSTART;TZID=America/New_York;VALUE=DATE:20261111
DTEND;TZID=America/New_York;VALUE=DATE:20261112
END:VEVENT
BEGIN:VEVENT
UID:event-728514@hmsathletics.boosterhub.com
DTSTAMP:20260420T062858Z
SUMMARY:Winter Sport Registration Opens
DESCRIPTION:<a href=\"https://www.google.com/url?q=https://wakecountyathlet
 iczone.com/heritage-middle/tryout-information/&amp\\\;sa=D&amp\\\;source=
 calendar&amp\\\;ust=1728323518762201&amp\\\;usg=AOvVaw0MZEK4IupDXJJhhx4YP
 9WG\" target=\"_blank\">https://wakecountyathleticzone.com/heritage-middl
 e/tryout-information/</a>
LOCATION:
X-MICROSOFT-CDO-ALLDAYEVENT:TRUE
DTSTART;TZID=America/New_York;VALUE=DATE:20261209
DTEND;TZID=America/New_York;VALUE=DATE:20261210
END:VEVENT
BEGIN:VEVENT
UID:event-728515@hmsathletics.boosterhub.com
DTSTAMP:20260420T062858Z
SUMMARY:Winter Sport Registration Opens
DESCRIPTION:<a href=\"https://www.google.com/url?q=https://wakecountyathlet
 iczone.com/heritage-middle/tryout-information/&amp\\\;sa=D&amp\\\;source=
 calendar&amp\\\;ust=1728323518762201&amp\\\;usg=AOvVaw0MZEK4IupDXJJhhx4YP
 9WG\" target=\"_blank\">https://wakecountyathleticzone.com/heritage-middl
 e/tryout-information/</a>
LOCATION:
X-MICROSOFT-CDO-ALLDAYEVENT:TRUE
DTSTART;TZID=America/New_York;VALUE=DATE:20270113
DTEND;TZID=America/New_York;VALUE=DATE:20270114
END:VEVENT
BEGIN:VEVENT
UID:event-728516@hmsathletics.boosterhub.com
DTSTAMP:20260420T062858Z
SUMMARY:Winter Sport Registration Opens
DESCRIPTION:<a href=\"https://www.google.com/url?q=https://wakecountyathlet
 iczone.com/heritage-middle/tryout-information/&amp\\\;sa=D&amp\\\;source=
 calendar&amp\\\;ust=1728323518762201&amp\\\;usg=AOvVaw0MZEK4IupDXJJhhx4YP
 9WG\" target=\"_blank\">https://wakecountyathleticzone.com/heritage-middl
 e/tryout-information/</a>
LOCATION:
X-MICROSOFT-CDO-ALLDAYEVENT:TRUE
DTSTART;TZID=America/New_York;VALUE=DATE:20270210
DTEND;TZID=America/New_York;VALUE=DATE:20270211
END:VEVENT
BEGIN:VEVENT
UID:event-728517@hmsathletics.boosterhub.com
DTSTAMP:20260420T062858Z
SUMMARY:Winter Sport Registration Opens
DESCRIPTION:<a href=\"https://www.google.com/url?q=https://wakecountyathlet
 iczone.com/heritage-middle/tryout-information/&amp\\\;sa=D&amp\\\;source=
 calendar&amp\\\;ust=1728323518762201&amp\\\;usg=AOvVaw0MZEK4IupDXJJhhx4YP
 9WG\" target=\"_blank\">https://wakecountyathleticzone.com/heritage-middl
 e/tryout-information/</a>
LOCATION:
X-MICROSOFT-CDO-ALLDAYEVENT:TRUE
DTSTART;TZID=America/New_York;VALUE=DATE:20270310
DTEND;TZID=America/New_York;VALUE=DATE:20270311
END:VEVENT
BEGIN:VEVENT
UID:event-728541@hmsathletics.boosterhub.com
DTSTAMP:20260420T062858Z
SUMMARY:Spring Sport Registration Opens
DESCRIPTION:<a href=\"https://www.google.com/url?q=https://wakecountyathlet
 iczone.com/heritage-middle/tryout-information/&amp\\\;sa=D&amp\\\;source=
 calendar&amp\\\;ust=1728323727900603&amp\\\;usg=AOvVaw2V7QhuQsi-FxtdIl97k
 YCR\" target=\"_blank\">https://wakecountyathleticzone.com/heritage-middl
 e/tryout-information/</a>
LOCATION:
X-MICROSOFT-CDO-ALLDAYEVENT:TRUE
DTSTART;TZID=America/New_York;VALUE=DATE:20260513
DTEND;TZID=America/New_York;VALUE=DATE:20260514
END:VEVENT
BEGIN:VEVENT
UID:event-728542@hmsathletics.boosterhub.com
DTSTAMP:20260420T062858Z
SUMMARY:Spring Sport Registration Opens
DESCRIPTION:<a href=\"https://www.google.com/url?q=https://wakecountyathlet
 iczone.com/heritage-middle/tryout-information/&amp\\\;sa=D&amp\\\;source=
 calendar&amp\\\;ust=1728323727900603&amp\\\;usg=AOvVaw2V7QhuQsi-FxtdIl97k
 YCR\" target=\"_blank\">https://wakecountyathleticzone.com/heritage-middl
 e/tryout-information/</a>
LOCATION:
X-MICROSOFT-CDO-ALLDAYEVENT:TRUE
DTSTART;TZID=America/New_York;VALUE=DATE:20260610
DTEND;TZID=America/New_York;VALUE=DATE:20260611
END:VEVENT
BEGIN:VEVENT
UID:event-728543@hmsathletics.boosterhub.com
DTSTAMP:20260420T062858Z
SUMMARY:Spring Sport Registration Opens
DESCRIPTION:<a href=\"https://www.google.com/url?q=https://wakecountyathlet
 iczone.com/heritage-middle/tryout-information/&amp\\\;sa=D&amp\\\;source=
 calendar&amp\\\;ust=1728323727900603&amp\\\;usg=AOvVaw2V7QhuQsi-FxtdIl97k
 YCR\" target=\"_blank\">https://wakecountyathleticzone.com/heritage-middl
 e/tryout-information/</a>
LOCATION:
X-MICROSOFT-CDO-ALLDAYEVENT:TRUE
DTSTART;TZID=America/New_York;VALUE=DATE:20260708
DTEND;TZID=America/New_York;VALUE=DATE:20260709
END:VEVENT
BEGIN:VEVENT
UID:event-728544@hmsathletics.boosterhub.com
DTSTAMP:20260420T062858Z
SUMMARY:Spring Sport Registration Opens
DESCRIPTION:<a href=\"https://www.google.com/url?q=https://wakecountyathlet
 iczone.com/heritage-middle/tryout-information/&amp\\\;sa=D&amp\\\;source=
 calendar&amp\\\;ust=1728323727900603&amp\\\;usg=AOvVaw2V7QhuQsi-FxtdIl97k
 YCR\" target=\"_blank\">https://wakecountyathleticzone.com/heritage-middl
 e/tryout-information/</a>
LOCATION:
X-MICROSOFT-CDO-ALLDAYEVENT:TRUE
DTSTART;TZID=America/New_York;VALUE=DATE:20260812
DTEND;TZID=America/New_York;VALUE=DATE:20260813
END:VEVENT
BEGIN:VEVENT
UID:event-728545@hmsathletics.boosterhub.com
DTSTAMP:20260420T062858Z
SUMMARY:Spring Sport Registration Opens
DESCRIPTION:<a href=\"https://www.google.com/url?q=https://wakecountyathlet
 iczone.com/heritage-middle/tryout-information/&amp\\\;sa=D&amp\\\;source=
 calendar&amp\\\;ust=1728323727900603&amp\\\;usg=AOvVaw2V7QhuQsi-FxtdIl97k
 YCR\" target=\"_blank\">https://wakecountyathleticzone.com/heritage-middl
 e/tryout-information/</a>
LOCATION:
X-MICROSOFT-CDO-ALLDAYEVENT:TRUE
DTSTART;TZID=America/New_York;VALUE=DATE:20260909
DTEND;TZID=America/New_York;VALUE=DATE:20260910
END:VEVENT
BEGIN:VEVENT
UID:event-728546@hmsathletics.boosterhub.com
DTSTAMP:20260420T062858Z
SUMMARY:Spring Sport Registration Opens
DESCRIPTION:<a href=\"https://www.google.com/url?q=https://wakecountyathlet
 iczone.com/heritage-middle/tryout-information/&amp\\\;sa=D&amp\\\;source=
 calendar&amp\\\;ust=1728323727900603&amp\\\;usg=AOvVaw2V7QhuQsi-FxtdIl97k
 YCR\" target=\"_blank\">https://wakecountyathleticzone.com/heritage-middl
 e/tryout-information/</a>
LOCATION:
X-MICROSOFT-CDO-ALLDAYEVENT:TRUE
DTSTART;TZID=America/New_York;VALUE=DATE:20261014
DTEND;TZID=America/New_York;VALUE=DATE:20261015
END:VEVENT
BEGIN:VEVENT
UID:event-728547@hmsathletics.boosterhub.com
DTSTAMP:20260420T062858Z
SUMMARY:Spring Sport Registration Opens
DESCRIPTION:<a href=\"https://www.google.com/url?q=https://wakecountyathlet
 iczone.com/heritage-middle/tryout-information/&amp\\\;sa=D&amp\\\;source=
 calendar&amp\\\;ust=1728323727900603&amp\\\;usg=AOvVaw2V7QhuQsi-FxtdIl97k
 YCR\" target=\"_blank\">https://wakecountyathleticzone.com/heritage-middl
 e/tryout-information/</a>
LOCATION:
X-MICROSOFT-CDO-ALLDAYEVENT:TRUE
DTSTART;TZID=America/New_York;VALUE=DATE:20261111
DTEND;TZID=America/New_York;VALUE=DATE:20261112
END:VEVENT
BEGIN:VEVENT
UID:event-728548@hmsathletics.boosterhub.com
DTSTAMP:20260420T062858Z
SUMMARY:Spring Sport Registration Opens
DESCRIPTION:<a href=\"https://www.google.com/url?q=https://wakecountyathlet
 iczone.com/heritage-middle/tryout-information/&amp\\\;sa=D&amp\\\;source=
 calendar&amp\\\;ust=1728323727900603&amp\\\;usg=AOvVaw2V7QhuQsi-FxtdIl97k
 YCR\" target=\"_blank\">https://wakecountyathleticzone.com/heritage-middl
 e/tryout-information/</a>
LOCATION:
X-MICROSOFT-CDO-ALLDAYEVENT:TRUE
DTSTART;TZID=America/New_York;VALUE=DATE:20261209
DTEND;TZID=America/New_York;VALUE=DATE:20261210
END:VEVENT
BEGIN:VEVENT
UID:event-728549@hmsathletics.boosterhub.com
DTSTAMP:20260420T062858Z
SUMMARY:Spring Sport Registration Opens
DESCRIPTION:<a href=\"https://www.google.com/url?q=https://wakecountyathlet
 iczone.com/heritage-middle/tryout-information/&amp\\\;sa=D&amp\\\;source=
 calendar&amp\\\;ust=1728323727900603&amp\\\;usg=AOvVaw2V7QhuQsi-FxtdIl97k
 YCR\" target=\"_blank\">https://wakecountyathleticzone.com/heritage-middl
 e/tryout-information/</a>
LOCATION:
X-MICROSOFT-CDO-ALLDAYEVENT:TRUE
DTSTART;TZID=America/New_York;VALUE=DATE:20270113
DTEND;TZID=America/New_York;VALUE=DATE:20270114
END:VEVENT
BEGIN:VEVENT
UID:event-728550@hmsathletics.boosterhub.com
DTSTAMP:20260420T062858Z
SUMMARY:Spring Sport Registration Opens
DESCRIPTION:<a href=\"https://www.google.com/url?q=https://wakecountyathlet
 iczone.com/heritage-middle/tryout-information/&amp\\\;sa=D&amp\\\;source=
 calendar&amp\\\;ust=1728323727900603&amp\\\;usg=AOvVaw2V7QhuQsi-FxtdIl97k
 YCR\" target=\"_blank\">https://wakecountyathleticzone.com/heritage-middl
 e/tryout-information/</a>
LOCATION:
X-MICROSOFT-CDO-ALLDAYEVENT:TRUE
DTSTART;TZID=America/New_York;VALUE=DATE:20270210
DTEND;TZID=America/New_York;VALUE=DATE:20270211
END:VEVENT
BEGIN:VEVENT
UID:event-728551@hmsathletics.boosterhub.com
DTSTAMP:20260420T062858Z
SUMMARY:Spring Sport Registration Opens
DESCRIPTION:<a href=\"https://www.google.com/url?q=https://wakecountyathlet
 iczone.com/heritage-middle/tryout-information/&amp\\\;sa=D&amp\\\;source=
 calendar&amp\\\;ust=1728323727900603&amp\\\;usg=AOvVaw2V7QhuQsi-FxtdIl97k
 YCR\" target=\"_blank\">https://wakecountyathleticzone.com/heritage-middl
 e/tryout-information/</a>
LOCATION:
X-MICROSOFT-CDO-ALLDAYEVENT:TRUE
DTSTART;TZID=America/New_York;VALUE=DATE:20270310
DTEND;TZID=America/New_York;VALUE=DATE:20270311
END:VEVENT
BEGIN:VEVENT
UID:event-728620@hmsathletics.boosterhub.com
DTSTAMP:20260420T062858Z
SUMMARY:Softball at Neuse River (AWAY) - Doubleheader
DESCRIPTION:Buy tickets here: <a href=\"https://www.google.com/url?q=https
 ://gofan.co/app/school/NC68157&amp\\\;sa=D&amp\\\;source=calendar&amp\\\;
 ust=1750871361945696&amp\\\;usg=AOvVaw06BWKaURwLJS2Qdln0vWo9\" target=\"_
 blank\">https://gofan.co/app/school/NC68157</a>
LOCATION:Neuse River Middle School\, 2700 Old Milburnie Rd\, Raleigh\, NC 2
 7604\, USA
DTSTART;TZID=America/New_York:20260507T161500
DTEND;TZID=America/New_York:20260507T181500
END:VEVENT
BEGIN:VEVENT
UID:event-728621@hmsathletics.boosterhub.com
DTSTAMP:20260420T062858Z
SUMMARY:Softball vs. Rolesville (HOME) - Doubleheader
DESCRIPTION:Buy tickets here: <a href=\"https://www.google.com/url?q=https
 ://gofan.co/app/school/NC68157&amp\\\;sa=D&amp\\\;source=calendar&amp\\\;
 ust=1750871315968065&amp\\\;usg=AOvVaw1T1hlEbBiNhkCD9k61uhjp\" target=\"_
 blank\">https://gofan.co/app/school/NC68157</a>
LOCATION:Heritage Middle School\, 3400 Rogers Rd\, Wake Forest\, NC 27587\,
  USA
DTSTART;TZID=America/New_York:20260511T161500
DTEND;TZID=America/New_York:20260511T181500
END:VEVENT
BEGIN:VEVENT
UID:event-728625@hmsathletics.boosterhub.com
DTSTAMP:20260420T062858Z
SUMMARY:Boys Soccer vs. Neuse River (HOME)
DESCRIPTION:Buy tickets here: <a href=\"https://www.google.com/url?q=https
 ://gofan.co/app/school/NC68157&amp\\\;sa=D&amp\\\;source=calendar&amp\\\;
 ust=1749316676902218&amp\\\;usg=AOvVaw3mOdxqCKIE_QwIk_wM3sGW\" target=\"_
 blank\">https://gofan.co/app/school/NC68157</a>
LOCATION:Heritage Middle School\, 3400 Rogers Rd\, Wake Forest\, NC 27587\,
  USA
DTSTART;TZID=America/New_York:20260428T160000
DTEND;TZID=America/New_York:20260428T173000
END:VEVENT
BEGIN:VEVENT
UID:event-728633@hmsathletics.boosterhub.com
DTSTAMP:20260420T062858Z
SUMMARY:Boys Soccer at River Bend (AWAY)
DESCRIPTION:Buy tickets here: <a href=\"https://www.google.com/url?q=https
 ://gofan.co/app/school/NC68157&amp\\\;sa=D&amp\\\;source=calendar&amp\\\;
 ust=1749316786706780&amp\\\;usg=AOvVaw1JLb9PCF2kJHs8AS_0RS6T\" target=\"_
 blank\">https://gofan.co/app/school/NC68157</a>
LOCATION:River Bend Middle School\, 5601 Wallace Martin Wy\, Raleigh\, NC 2
 7616\, USA
DTSTART;TZID=America/New_York:20260505T160000
DTEND;TZID=America/New_York:20260505T173000
END:VEVENT
BEGIN:VEVENT
UID:event-728645@hmsathletics.boosterhub.com
DTSTAMP:20260420T062858Z
SUMMARY:Track Conference Meet @ River Bend (AWAY)
DESCRIPTION:
LOCATION:
DTSTART;TZID=America/New_York:20260506T160000
DTEND;TZID=America/New_York:20260506T180000
END:VEVENT
BEGIN:VEVENT
UID:event-728648@hmsathletics.boosterhub.com
DTSTAMP:20260420T062858Z
SUMMARY:Track at Wake Forest (AWAY)
DESCRIPTION:Buy tickets here: <a href=\"https://www.google.com/url?q=https
 ://gofan.co/app/school/NC68157&amp\\\;sa=D&amp\\\;source=calendar&amp\\\;
 ust=1751285708646685&amp\\\;usg=AOvVaw1cEBjBWn5Tt6NZYpqpkZIs\" target=\"_
 blank\">https://gofan.co/app/school/NC68157</a>
LOCATION:Wake Forest Middle School\, 1800 S Main St\, Wake Forest\, NC 2758
 7\, USA
DTSTART;TZID=America/New_York:20260422T160000
DTEND;TZID=America/New_York:20260422T173000
END:VEVENT
BEGIN:VEVENT
UID:event-728649@hmsathletics.boosterhub.com
DTSTAMP:20260420T062858Z
SUMMARY:Track at Wendell (AWAY)
DESCRIPTION:Buy tickets here: <a href=\"https://www.google.com/url?q=https
 ://gofan.co/app/school/NC68157&amp\\\;sa=D&amp\\\;source=calendar&amp\\\;
 ust=1751295198378183&amp\\\;usg=AOvVaw2X9FqTxbCELsrBe-tvGhTo\" target=\"_
 blank\">https://gofan.co/app/school/NC68157</a>
LOCATION:Wendell Middle School\, 3409 NC-97\, Wendell\, NC 27591\, USA
DTSTART;TZID=America/New_York:20260429T160000
DTEND;TZID=America/New_York:20260429T173000
END:VEVENT
END:VCALENDAR